BEGIN:VCALENDAR
VERSION:2.0
PRODID:-//Musik erlebbar machen - ECPv6.15.20//NONSGML v1.0//EN
CALSCALE:GREGORIAN
METHOD:PUBLISH
X-ORIGINAL-URL:https://www.rmv-musik.de
X-WR-CALDESC:Veranstaltungen für Musik erlebbar machen
REFRESH-INTERVAL;VALUE=DURATION:PT1H
X-Robots-Tag:noindex
X-PUBLISHED-TTL:PT1H
BEGIN:VTIMEZONE
TZID:Europe/Berlin
BEGIN:DAYLIGHT
TZOFFSETFROM:+0100
TZOFFSETTO:+0200
TZNAME:CEST
DTSTART:20240331T010000
END:DAYLIGHT
BEGIN:STANDARD
TZOFFSETFROM:+0200
TZOFFSETTO:+0100
TZNAME:CET
DTSTART:20241027T010000
END:STANDARD
BEGIN:DAYLIGHT
TZOFFSETFROM:+0100
TZOFFSETTO:+0200
TZNAME:CEST
DTSTART:20250330T010000
END:DAYLIGHT
BEGIN:STANDARD
TZOFFSETFROM:+0200
TZOFFSETTO:+0100
TZNAME:CET
DTSTART:20251026T010000
END:STANDARD
BEGIN:DAYLIGHT
TZOFFSETFROM:+0100
TZOFFSETTO:+0200
TZNAME:CEST
DTSTART:20260329T010000
END:DAYLIGHT
BEGIN:STANDARD
TZOFFSETFROM:+0200
TZOFFSETTO:+0100
TZNAME:CET
DTSTART:20261025T010000
END:STANDARD
END:VTIMEZONE
BEGIN:VEVENT
DTSTART;TZID=Europe/Berlin:20251109T100000
DTEND;TZID=Europe/Berlin:20251109T180000
DTSTAMP:20260423T042232
CREATED:20250825T154544Z
LAST-MODIFIED:20250825T154937Z
UID:10425-1762682400-1762711200@www.rmv-musik.de
SUMMARY:Verbandsorchester Probe
DESCRIPTION:
URL:https://www.rmv-musik.de/event/verbandsorchester-probe-2/
LOCATION:Haus der Musik\, Bawinkeler Straße 2\, Langen\, 49838
CATEGORIES:Veranstaltungen & Weiterbildung
END:VEVENT
BEGIN:VEVENT
DTSTART;TZID=Europe/Berlin:20251114T200000
DTEND;TZID=Europe/Berlin:20251114T230000
DTSTAMP:20260423T042232
CREATED:20250831T142516Z
LAST-MODIFIED:20250831T143542Z
UID:10460-1763150400-1763161200@www.rmv-musik.de
SUMMARY:Jubiläumskonzert 1 - 55 Jahre Die Tinner Jäger Musikanten
DESCRIPTION:
URL:https://www.rmv-musik.de/event/jubilaeumskonzert-1-55-jahre-die-tinner-jaeger-musikanten/
LOCATION:Saal Hagen in Haren
CATEGORIES:Konzerte
END:VEVENT
BEGIN:VEVENT
DTSTART;TZID=Europe/Berlin:20251115T093000
DTEND;TZID=Europe/Berlin:20251115T170000
DTSTAMP:20260423T042232
CREATED:20250825T160827Z
LAST-MODIFIED:20250825T160827Z
UID:10446-1763199000-1763226000@www.rmv-musik.de
SUMMARY:Workshop mit Gerd Fink
DESCRIPTION:
URL:https://www.rmv-musik.de/event/workshop-mit-gerd-fink/
LOCATION:Haus der Musik\, Bawinkeler Straße 2\, Langen\, 49838
CATEGORIES:Veranstaltungen & Weiterbildung
END:VEVENT
BEGIN:VEVENT
DTSTART;TZID=Europe/Berlin:20251115T200000
DTEND;TZID=Europe/Berlin:20251115T233000
DTSTAMP:20260423T042232
CREATED:20250831T142938Z
LAST-MODIFIED:20250831T143238Z
UID:10472-1763236800-1763249400@www.rmv-musik.de
SUMMARY:Jubiläumskonzert 2 - 55 Jahre Die Tinner Jäger Musikanten
DESCRIPTION:
URL:https://www.rmv-musik.de/event/jubilaeumskonzert-2-55-jahre-die-tinner-jaeger-musikanten/
LOCATION:Saal Hagen in Haren
CATEGORIES:Konzerte
END:VEVENT
BEGIN:VEVENT
DTSTART;TZID=Europe/Berlin:20251129T080000
DTEND;TZID=Europe/Berlin:20251129T170000
DTSTAMP:20260423T042232
CREATED:20251129T081758Z
LAST-MODIFIED:20251129T081758Z
UID:11192-1764403200-1764435600@www.rmv-musik.de
SUMMARY:Inklusionscheck für Vorstände – Inklusive Wege in der Vereinsarbeit
DESCRIPTION:
URL:https://www.rmv-musik.de/event/inklusionscheck-fuer-vorstaende-inklusive-wege-in-der-vereinsarbeit/
LOCATION:St.-Vitus-Werk\, Schulze-Delitzsch-Straße 2\, Meppen\, 49716\, Germany
CATEGORIES:Workshops/Seminare
END:VEVENT
END:VCALENDAR