BEGIN:VCALENDAR
VERSION:2.0
PRODID:-//Musik erlebbar machen - ECPv6.15.20//NONSGML v1.0//EN
CALSCALE:GREGORIAN
METHOD:PUBLISH
X-WR-CALNAME:Musik erlebbar machen
X-ORIGINAL-URL:https://www.rmv-musik.de
X-WR-CALDESC:Veranstaltungen für Musik erlebbar machen
REFRESH-INTERVAL;VALUE=DURATION:PT1H
X-Robots-Tag:noindex
X-PUBLISHED-TTL:PT1H
BEGIN:VTIMEZONE
TZID:Europe/Berlin
BEGIN:DAYLIGHT
TZOFFSETFROM:+0100
TZOFFSETTO:+0200
TZNAME:CEST
DTSTART:20230326T010000
END:DAYLIGHT
BEGIN:STANDARD
TZOFFSETFROM:+0200
TZOFFSETTO:+0100
TZNAME:CET
DTSTART:20231029T010000
END:STANDARD
BEGIN:DAYLIGHT
TZOFFSETFROM:+0100
TZOFFSETTO:+0200
TZNAME:CEST
DTSTART:20240331T010000
END:DAYLIGHT
BEGIN:STANDARD
TZOFFSETFROM:+0200
TZOFFSETTO:+0100
TZNAME:CET
DTSTART:20241027T010000
END:STANDARD
BEGIN:DAYLIGHT
TZOFFSETFROM:+0100
TZOFFSETTO:+0200
TZNAME:CEST
DTSTART:20250330T010000
END:DAYLIGHT
BEGIN:STANDARD
TZOFFSETFROM:+0200
TZOFFSETTO:+0100
TZNAME:CET
DTSTART:20251026T010000
END:STANDARD
END:VTIMEZONE
BEGIN:VEVENT
DTSTART;TZID=Europe/Berlin:20240810T150000
DTEND;TZID=Europe/Berlin:20240810T150000
DTSTAMP:20260426T062211
CREATED:20240731T074720Z
LAST-MODIFIED:20240731T074846Z
UID:7516-1723302000-1723302000@www.rmv-musik.de
SUMMARY:Mit Tuten un Bloasen – Die größte Marschkapelle des Emslandes
DESCRIPTION:1974 wurde die Blaskapelle Schapen e.V. gegründet. 50 Jahre später\, am 10. August 2024\, laden die Schapener deshalb zu einer besonderen Veranstaltung ein. Sie haben sich zum Ziel genommen\, die größte Marschkapelle des Emslandes zu bilden. Die über 130 Musiker setzen sich aus den Kapellen des südlichen Emslandes zusammen: Blaskapelle Schapen\, Musikzug der Freiwilligen Feuerwehr Spelle-Venhaus\, Kolpingkapelle Freren\, Musikverein Beesten-Lünne und Blaskapelle Andervenne. \nDie imposante Marschformation mit mehr als 17 Achterreihen setzt sich am 10. August um 15 Uhr vom Gelände der Firma Vaal Transporte (Beestener Str. 21\, 48480 Schapen) in Bewegung. Nach dem ersten Höhepunkt\, dem großen Kreisverkehr\, halten die Musiker am Landgasthaus Rosken (Am Markt\, 48480 Schapen). Auf dem dortigen Parkplatz sind Besucher ab ca. 15.15 Uhr eingeladen\, einer Serenade zu lauschen.  \nIm Anschluss marschiert die Formation weiter zum Festplatz auf dem Gelände der Firma Kleinbuntemeyer (Koppelweg 1\, 48480 Schapen). Vor Ort dürfen sich die Musiker bei einem Musikerschützenfest einmal selbst feiern. Aber auch Nicht-Musiker sind dazu ab 16 Uhr herzlich eingeladen. Standesgemäß wird ab 19 Uhr ein Königsball mit DJ Kolli gefeiert. Es wird einige Specials wie eine Happy Hour\, den Burger Korn Spezial oder auch das Musikergold geben\, sodass die vergangenen 50 Jahre der Blaskapelle Schapen ausgiebig gefeiert werden können.
URL:https://www.rmv-musik.de/event/mit-tuten-un-bloasen-die-groesste-marschkapelle-des-emslandes/
CATEGORIES:Konzerte
ATTACH;FMTTYPE=image/png:https://www.rmv-musik.de/wp-content/uploads/2024/07/BlaskapelleSchapen50_1.png
END:VEVENT
END:VCALENDAR