BEGIN:VCALENDAR
VERSION:2.0
PRODID:-//Musik erlebbar machen - ECPv6.15.20//NONSGML v1.0//EN
CALSCALE:GREGORIAN
METHOD:PUBLISH
X-ORIGINAL-URL:https://www.rmv-musik.de
X-WR-CALDESC:Veranstaltungen für Musik erlebbar machen
REFRESH-INTERVAL;VALUE=DURATION:PT1H
X-Robots-Tag:noindex
X-PUBLISHED-TTL:PT1H
BEGIN:VTIMEZONE
TZID:Europe/Berlin
BEGIN:DAYLIGHT
TZOFFSETFROM:+0100
TZOFFSETTO:+0200
TZNAME:CEST
DTSTART:20250330T010000
END:DAYLIGHT
BEGIN:STANDARD
TZOFFSETFROM:+0200
TZOFFSETTO:+0100
TZNAME:CET
DTSTART:20251026T010000
END:STANDARD
BEGIN:DAYLIGHT
TZOFFSETFROM:+0100
TZOFFSETTO:+0200
TZNAME:CEST
DTSTART:20260329T010000
END:DAYLIGHT
BEGIN:STANDARD
TZOFFSETFROM:+0200
TZOFFSETTO:+0100
TZNAME:CET
DTSTART:20261025T010000
END:STANDARD
BEGIN:DAYLIGHT
TZOFFSETFROM:+0100
TZOFFSETTO:+0200
TZNAME:CEST
DTSTART:20270328T010000
END:DAYLIGHT
BEGIN:STANDARD
TZOFFSETFROM:+0200
TZOFFSETTO:+0100
TZNAME:CET
DTSTART:20271031T010000
END:STANDARD
END:VTIMEZONE
BEGIN:VEVENT
DTSTART;TZID=Europe/Berlin:20260321T093000
DTEND;TZID=Europe/Berlin:20260321T170000
DTSTAMP:20260421T150252
CREATED:20251129T082353Z
LAST-MODIFIED:20251129T082353Z
UID:11203-1774085400-1774112400@www.rmv-musik.de
SUMMARY:Dirigieren leicht gemacht – Einstieg und Grundlagen für Anfänger
DESCRIPTION:
URL:https://www.rmv-musik.de/event/dirigieren-leicht-gemacht-einstieg-und-grundlagen-fuer-anfaenger/
LOCATION:Haus der Musik\, Bawinkeler Straße 2\, Langen\, 49838
CATEGORIES:Workshops/Seminare
END:VEVENT
BEGIN:VEVENT
DTSTART;TZID=Europe/Berlin:20260321T093000
DTEND;TZID=Europe/Berlin:20260321T170000
DTSTAMP:20260421T150252
CREATED:20251129T082557Z
LAST-MODIFIED:20251129T082557Z
UID:11207-1774085400-1774112400@www.rmv-musik.de
SUMMARY:Dein Verein im Rampenlicht
DESCRIPTION:
URL:https://www.rmv-musik.de/event/dein-verein-im-rampenlicht/
LOCATION:Haus der Musik\, Bawinkeler Straße 2\, Langen\, 49838
CATEGORIES:Workshops/Seminare
ATTACH;FMTTYPE=image/jpeg:https://www.rmv-musik.de/wp-content/uploads/2025/11/Rampenlicht.jpg
END:VEVENT
END:VCALENDAR