BEGIN:VCALENDAR
VERSION:2.0
PRODID:-//Musik erlebbar machen - ECPv6.15.20//NONSGML v1.0//EN
CALSCALE:GREGORIAN
METHOD:PUBLISH
X-ORIGINAL-URL:https://www.rmv-musik.de
X-WR-CALDESC:Veranstaltungen für Musik erlebbar machen
REFRESH-INTERVAL;VALUE=DURATION:PT1H
X-Robots-Tag:noindex
X-PUBLISHED-TTL:PT1H
BEGIN:VTIMEZONE
TZID:Europe/Berlin
BEGIN:DAYLIGHT
TZOFFSETFROM:+0100
TZOFFSETTO:+0200
TZNAME:CEST
DTSTART:20240331T010000
END:DAYLIGHT
BEGIN:STANDARD
TZOFFSETFROM:+0200
TZOFFSETTO:+0100
TZNAME:CET
DTSTART:20241027T010000
END:STANDARD
BEGIN:DAYLIGHT
TZOFFSETFROM:+0100
TZOFFSETTO:+0200
TZNAME:CEST
DTSTART:20250330T010000
END:DAYLIGHT
BEGIN:STANDARD
TZOFFSETFROM:+0200
TZOFFSETTO:+0100
TZNAME:CET
DTSTART:20251026T010000
END:STANDARD
BEGIN:DAYLIGHT
TZOFFSETFROM:+0100
TZOFFSETTO:+0200
TZNAME:CEST
DTSTART:20260329T010000
END:DAYLIGHT
BEGIN:STANDARD
TZOFFSETFROM:+0200
TZOFFSETTO:+0100
TZNAME:CET
DTSTART:20261025T010000
END:STANDARD
END:VTIMEZONE
BEGIN:VEVENT
DTSTART;TZID=Europe/Berlin:20250921T100000
DTEND;TZID=Europe/Berlin:20250921T180000
DTSTAMP:20260425T134540
CREATED:20250825T153208Z
LAST-MODIFIED:20250825T153553Z
UID:10420-1758448800-1758477600@www.rmv-musik.de
SUMMARY:Verbandsorchester Probe
DESCRIPTION:
URL:https://www.rmv-musik.de/event/verbandsorchester-probe/
LOCATION:Haus des Bürgers\, Am Markt 6\, Heede\, 26892
CATEGORIES:Veranstaltungen & Weiterbildung
END:VEVENT
END:VCALENDAR